BEGIN:VCALENDAR
VERSION:2.0
PRODID:-//wp-events-plugin.com//7.2.3.1//EN
BEGIN:VEVENT
UID:2@northcanadianba.org
DTSTART;TZID=America/Chicago:20210104T183000
DTEND;TZID=America/Chicago:20210104T193000
DTSTAMP:20210107T172739Z
URL:https://northcanadianba.org/events/ministry-wives-2021-01-04/
SUMMARY:Ministry Wives
DESCRIPTION:
END:VEVENT
BEGIN:VEVENT
UID:15@northcanadianba.org
DTSTART;TZID=America/Chicago:20210105T103000
DTEND;TZID=America/Chicago:20210105T120000
DTSTAMP:20210107T190215Z
URL:https://northcanadianba.org/events/pastor-staff-fellowship-2021-01-05/
SUMMARY:Pastor / Staff Fellowship
DESCRIPTION:
LOCATION:NCBA Office\, 24482 A Street\, Schulter\, OK\, 74437\, United Stat
 es
X-APPLE-STRUCTURED-LOCATION;VALUE=URI;X-ADDRESS=24482 A Street\, Schulter\,
  OK\, 74437\, United States;X-APPLE-RADIUS=100;X-TITLE=NCBA Office:geo:0,0
END:VEVENT
BEGIN:VEVENT
UID:16@northcanadianba.org
DTSTART;TZID=America/Chicago:20210112T103000
DTEND;TZID=America/Chicago:20210112T120000
DTSTAMP:20210107T190215Z
URL:https://northcanadianba.org/events/pastor-staff-fellowship-2021-01-12/
SUMMARY:Pastor / Staff Fellowship
DESCRIPTION:
LOCATION:NCBA Office\, 24482 A Street\, Schulter\, OK\, 74437\, United Stat
 es
X-APPLE-STRUCTURED-LOCATION;VALUE=URI;X-ADDRESS=24482 A Street\, Schulter\,
  OK\, 74437\, United States;X-APPLE-RADIUS=100;X-TITLE=NCBA Office:geo:0,0
END:VEVENT
BEGIN:VEVENT
UID:67@northcanadianba.org
DTSTART;TZID=America/Chicago;VALUE=DATE:20210118
DTEND;TZID=America/Chicago;VALUE=DATE:20210119
DTSTAMP:20210107T194650Z
URL:https://northcanadianba.org/events/martin-luther-king-jr-day-offices-a
 re-closed/
SUMMARY:Martin Luther King\, Jr. Day - Offices are closed
DESCRIPTION:
END:VEVENT
BEGIN:VEVENT
UID:17@northcanadianba.org
DTSTART;TZID=America/Chicago:20210119T103000
DTEND;TZID=America/Chicago:20210119T120000
DTSTAMP:20210107T190215Z
URL:https://northcanadianba.org/events/pastor-staff-fellowship-2021-01-19/
SUMMARY:Pastor / Staff Fellowship
DESCRIPTION:
LOCATION:NCBA Office\, 24482 A Street\, Schulter\, OK\, 74437\, United Stat
 es
X-APPLE-STRUCTURED-LOCATION;VALUE=URI;X-ADDRESS=24482 A Street\, Schulter\,
  OK\, 74437\, United States;X-APPLE-RADIUS=100;X-TITLE=NCBA Office:geo:0,0
END:VEVENT
BEGIN:VEVENT
UID:18@northcanadianba.org
DTSTART;TZID=America/Chicago:20210126T090000
DTEND;TZID=America/Chicago:20210126T100000
DTSTAMP:20210107T190500Z
URL:https://northcanadianba.org/events/pastor-staff-fellowship-2021-01-26/
SUMMARY:Pastor / Staff Breakfast
DESCRIPTION:
LOCATION:NCBA Office\, 24482 A Street\, Schulter\, OK\, 74437\, United Stat
 es
X-APPLE-STRUCTURED-LOCATION;VALUE=URI;X-ADDRESS=24482 A Street\, Schulter\,
  OK\, 74437\, United States;X-APPLE-RADIUS=100;X-TITLE=NCBA Office:geo:0,0
END:VEVENT
BEGIN:VEVENT
UID:68@northcanadianba.org
DTSTART;TZID=America/Chicago:20210130T083000
DTEND;TZID=America/Chicago:20210130T120000
DTSTAMP:20210107T194852Z
URL:https://northcanadianba.org/events/evangelistic-prayer-workshop/
SUMMARY:Evangelistic Prayer Workshop
DESCRIPTION:
LOCATION:First Baptist Church - Henryetta\, 420 W. Trudgeon\, Henryetta\, O
 K\, 74437\, United States
X-APPLE-STRUCTURED-LOCATION;VALUE=URI;X-ADDRESS=420 W. Trudgeon\, Henryetta
 \, OK\, 74437\, United States;X-APPLE-RADIUS=100;X-TITLE=First Baptist Chu
 rch - Henryetta:geo:0,0
END:VEVENT
BEGIN:VEVENT
UID:3@northcanadianba.org
DTSTART;TZID=America/Chicago:20210201T183000
DTEND;TZID=America/Chicago:20210201T193000
DTSTAMP:20210107T202900Z
URL:https://northcanadianba.org/events/ministry-wives-2021-02-01/
SUMMARY:Ministry Wives
DESCRIPTION:
LOCATION:Natura Baptist Church - Beggs\, 7995 N. 250 Rd.\, Beggs\, OK\, 744
 21\, United States
X-APPLE-STRUCTURED-LOCATION;VALUE=URI;X-ADDRESS=7995 N. 250 Rd.\, Beggs\, O
 K\, 74421\, United States;X-APPLE-RADIUS=100;X-TITLE=Natura Baptist Church
  - Beggs:geo:0,0
END:VEVENT
BEGIN:VEVENT
UID:19@northcanadianba.org
DTSTART;TZID=America/Chicago:20210202T103000
DTEND;TZID=America/Chicago:20210202T120000
DTSTAMP:20210107T190215Z
URL:https://northcanadianba.org/events/pastor-staff-fellowship-2021-02-02/
SUMMARY:Pastor / Staff Fellowship
DESCRIPTION:
LOCATION:NCBA Office\, 24482 A Street\, Schulter\, OK\, 74437\, United Stat
 es
X-APPLE-STRUCTURED-LOCATION;VALUE=URI;X-ADDRESS=24482 A Street\, Schulter\,
  OK\, 74437\, United States;X-APPLE-RADIUS=100;X-TITLE=NCBA Office:geo:0,0
END:VEVENT
BEGIN:VEVENT
UID:20@northcanadianba.org
DTSTART;TZID=America/Chicago:20210209T103000
DTEND;TZID=America/Chicago:20210209T120000
DTSTAMP:20210107T190215Z
URL:https://northcanadianba.org/events/pastor-staff-fellowship-2021-02-09/
SUMMARY:Pastor / Staff Fellowship
DESCRIPTION:
LOCATION:NCBA Office\, 24482 A Street\, Schulter\, OK\, 74437\, United Stat
 es
X-APPLE-STRUCTURED-LOCATION;VALUE=URI;X-ADDRESS=24482 A Street\, Schulter\,
  OK\, 74437\, United States;X-APPLE-RADIUS=100;X-TITLE=NCBA Office:geo:0,0
END:VEVENT
BEGIN:VEVENT
UID:69@northcanadianba.org
DTSTART;TZID=America/Chicago:20210210T190000
DTEND;TZID=America/Chicago:20210210T210000
DTSTAMP:20210107T195124Z
URL:https://northcanadianba.org/events/ncba-youth-rally/
SUMMARY:NCBA Youth Rally
DESCRIPTION:
LOCATION:First Baptist Church - Okmulgee\, 311 W. 5th\, Okmulgee\, OK\, 744
 47\, United States
X-APPLE-STRUCTURED-LOCATION;VALUE=URI;X-ADDRESS=311 W. 5th\, Okmulgee\, OK\
 , 74447\, United States;X-APPLE-RADIUS=100;X-TITLE=First Baptist Church - 
 Okmulgee:geo:0,0
END:VEVENT
BEGIN:VEVENT
UID:70@northcanadianba.org
DTSTART;TZID=America/Chicago;VALUE=DATE:20210215
DTEND;TZID=America/Chicago;VALUE=DATE:20210216
DTSTAMP:20210107T195306Z
URL:https://northcanadianba.org/events/presidents-day-offices-will-be-clos
 ed/
SUMMARY:President's Day - Offices will be closed
DESCRIPTION:
END:VEVENT
BEGIN:VEVENT
UID:21@northcanadianba.org
DTSTART;TZID=America/Chicago:20210216T103000
DTEND;TZID=America/Chicago:20210216T120000
DTSTAMP:20210107T190215Z
URL:https://northcanadianba.org/events/pastor-staff-fellowship-2021-02-16/
SUMMARY:Pastor / Staff Fellowship
DESCRIPTION:
LOCATION:NCBA Office\, 24482 A Street\, Schulter\, OK\, 74437\, United Stat
 es
X-APPLE-STRUCTURED-LOCATION;VALUE=URI;X-ADDRESS=24482 A Street\, Schulter\,
  OK\, 74437\, United States;X-APPLE-RADIUS=100;X-TITLE=NCBA Office:geo:0,0
END:VEVENT
BEGIN:VEVENT
UID:71@northcanadianba.org
DTSTART;TZID=America/Chicago;VALUE=DATE:20210219
DTEND;TZID=America/Chicago;VALUE=DATE:20210221
DTSTAMP:20210107T195355Z
URL:https://northcanadianba.org/events/vbs-state-training/
SUMMARY:VBS State Training
DESCRIPTION:
END:VEVENT
BEGIN:VEVENT
UID:22@northcanadianba.org
DTSTART;TZID=America/Chicago:20210223T090000
DTEND;TZID=America/Chicago:20210223T103000
DTSTAMP:20210107T192946Z
URL:https://northcanadianba.org/events/pastor-staff-fellowship-2021-02-23/
SUMMARY:Pastor / Staff Breakfast
DESCRIPTION:
LOCATION:NCBA Office\, 24482 A Street\, Schulter\, OK\, 74437\, United Stat
 es
X-APPLE-STRUCTURED-LOCATION;VALUE=URI;X-ADDRESS=24482 A Street\, Schulter\,
  OK\, 74437\, United States;X-APPLE-RADIUS=100;X-TITLE=NCBA Office:geo:0,0
END:VEVENT
BEGIN:VEVENT
UID:72@northcanadianba.org
DTSTART;TZID=America/Chicago;VALUE=DATE:20210226
DTEND;TZID=America/Chicago;VALUE=DATE:20210301
DTSTAMP:20210107T195443Z
URL:https://northcanadianba.org/events/mvp-pastors-wives-retreat/
SUMMARY:MVP Pastors & Wives Retreat
DESCRIPTION:
END:VEVENT
BEGIN:VEVENT
UID:73@northcanadianba.org
DTSTART;TZID=America/Chicago;VALUE=DATE:20210301
DTEND;TZID=America/Chicago;VALUE=DATE:20210302
DTSTAMP:20210107T203033Z
URL:https://northcanadianba.org/events/priority-of-preaching-conference/
SUMMARY:Priority of Preaching Conference
DESCRIPTION:
END:VEVENT
BEGIN:VEVENT
UID:4@northcanadianba.org
DTSTART;TZID=America/Chicago:20210301T183000
DTEND;TZID=America/Chicago:20210301T193000
DTSTAMP:20210107T202936Z
URL:https://northcanadianba.org/events/ministry-wives-2021-03-01/
SUMMARY:Ministry Wives
DESCRIPTION:
LOCATION:Trinity Baptist Church - Morris\, 830 Ozark\, Morris\, OK\, 74445\
 , United States
X-APPLE-STRUCTURED-LOCATION;VALUE=URI;X-ADDRESS=830 Ozark\, Morris\, OK\, 7
 4445\, United States;X-APPLE-RADIUS=100;X-TITLE=Trinity Baptist Church - M
 orris:geo:0,0
END:VEVENT
BEGIN:VEVENT
UID:23@northcanadianba.org
DTSTART;TZID=America/Chicago:20210302T103000
DTEND;TZID=America/Chicago:20210302T120000
DTSTAMP:20210107T190215Z
URL:https://northcanadianba.org/events/pastor-staff-fellowship-2021-03-02/
SUMMARY:Pastor / Staff Fellowship
DESCRIPTION:
LOCATION:NCBA Office\, 24482 A Street\, Schulter\, OK\, 74437\, United Stat
 es
X-APPLE-STRUCTURED-LOCATION;VALUE=URI;X-ADDRESS=24482 A Street\, Schulter\,
  OK\, 74437\, United States;X-APPLE-RADIUS=100;X-TITLE=NCBA Office:geo:0,0
END:VEVENT
BEGIN:VEVENT
UID:24@northcanadianba.org
DTSTART;TZID=America/Chicago:20210309T103000
DTEND;TZID=America/Chicago:20210309T120000
DTSTAMP:20210107T190215Z
URL:https://northcanadianba.org/events/pastor-staff-fellowship-2021-03-09/
SUMMARY:Pastor / Staff Fellowship
DESCRIPTION:
LOCATION:NCBA Office\, 24482 A Street\, Schulter\, OK\, 74437\, United Stat
 es
X-APPLE-STRUCTURED-LOCATION;VALUE=URI;X-ADDRESS=24482 A Street\, Schulter\,
  OK\, 74437\, United States;X-APPLE-RADIUS=100;X-TITLE=NCBA Office:geo:0,0
END:VEVENT
BEGIN:VEVENT
UID:74@northcanadianba.org
DTSTART;TZID=America/Chicago;VALUE=DATE:20210314
DTEND;TZID=America/Chicago;VALUE=DATE:20210315
DTSTAMP:20210107T203129Z
URL:https://northcanadianba.org/events/daylight-savings-time-begins-spring
 -forward/
SUMMARY:Daylight Savings Time Begins - Spring Forward
DESCRIPTION:
END:VEVENT
BEGIN:VEVENT
UID:25@northcanadianba.org
DTSTART;TZID=America/Chicago:20210316T103000
DTEND;TZID=America/Chicago:20210316T120000
DTSTAMP:20210107T190215Z
URL:https://northcanadianba.org/events/pastor-staff-fellowship-2021-03-16/
SUMMARY:Pastor / Staff Fellowship
DESCRIPTION:
LOCATION:NCBA Office\, 24482 A Street\, Schulter\, OK\, 74437\, United Stat
 es
X-APPLE-STRUCTURED-LOCATION;VALUE=URI;X-ADDRESS=24482 A Street\, Schulter\,
  OK\, 74437\, United States;X-APPLE-RADIUS=100;X-TITLE=NCBA Office:geo:0,0
END:VEVENT
BEGIN:VEVENT
UID:75@northcanadianba.org
DTSTART;TZID=America/Chicago:20210319T183000
DTEND;TZID=America/Chicago:20210319T200000
DTSTAMP:20210107T203248Z
URL:https://northcanadianba.org/events/pastors-deacons-wives-steak-dinner/
SUMMARY:Pastors\, Deacons\, & Wives Steak Dinner
DESCRIPTION:
LOCATION:Natura Baptist Church - Beggs\, 7995 N. 250 Rd.\, Beggs\, OK\, 744
 21\, United States
X-APPLE-STRUCTURED-LOCATION;VALUE=URI;X-ADDRESS=7995 N. 250 Rd.\, Beggs\, O
 K\, 74421\, United States;X-APPLE-RADIUS=100;X-TITLE=Natura Baptist Church
  - Beggs:geo:0,0
END:VEVENT
BEGIN:VEVENT
UID:76@northcanadianba.org
DTSTART;TZID=America/Chicago;VALUE=DATE:20210320
DTEND;TZID=America/Chicago;VALUE=DATE:20210321
DTSTAMP:20210107T203341Z
URL:https://northcanadianba.org/events/oklahoma-indian-evangelism-conferen
 ce-oklahoma-city/
SUMMARY:Oklahoma Indian Evangelism Conference - Oklahoma City
DESCRIPTION:
END:VEVENT
BEGIN:VEVENT
UID:26@northcanadianba.org
DTSTART;TZID=America/Chicago:20210323T103000
DTEND;TZID=America/Chicago:20210323T120000
DTSTAMP:20210107T190215Z
URL:https://northcanadianba.org/events/pastor-staff-fellowship-2021-03-23/
SUMMARY:Pastor / Staff Fellowship
DESCRIPTION:
LOCATION:NCBA Office\, 24482 A Street\, Schulter\, OK\, 74437\, United Stat
 es
X-APPLE-STRUCTURED-LOCATION;VALUE=URI;X-ADDRESS=24482 A Street\, Schulter\,
  OK\, 74437\, United States;X-APPLE-RADIUS=100;X-TITLE=NCBA Office:geo:0,0
END:VEVENT
BEGIN:VEVENT
UID:27@northcanadianba.org
DTSTART;TZID=America/Chicago:20210330T090000
DTEND;TZID=America/Chicago:20210330T103000
DTSTAMP:20210107T193031Z
URL:https://northcanadianba.org/events/pastor-staff-fellowship-2021-03-30/
SUMMARY:Pastor / Staff Breakfast
DESCRIPTION:
LOCATION:NCBA Office\, 24482 A Street\, Schulter\, OK\, 74437\, United Stat
 es
X-APPLE-STRUCTURED-LOCATION;VALUE=URI;X-ADDRESS=24482 A Street\, Schulter\,
  OK\, 74437\, United States;X-APPLE-RADIUS=100;X-TITLE=NCBA Office:geo:0,0
END:VEVENT
BEGIN:VEVENT
UID:77@northcanadianba.org
DTSTART;TZID=America/Chicago;VALUE=DATE:20210404
DTEND;TZID=America/Chicago;VALUE=DATE:20210405
DTSTAMP:20210107T203426Z
URL:https://northcanadianba.org/events/easter/
SUMMARY:Easter
DESCRIPTION:
END:VEVENT
BEGIN:VEVENT
UID:78@northcanadianba.org
DTSTART;TZID=America/Chicago;VALUE=DATE:20210405
DTEND;TZID=America/Chicago;VALUE=DATE:20210406
DTSTAMP:20210107T203904Z
URL:https://northcanadianba.org/events/new-pastor-staff-orientation/
SUMMARY:New Pastor & Staff Orientation
DESCRIPTION:
END:VEVENT
BEGIN:VEVENT
UID:5@northcanadianba.org
DTSTART;TZID=America/Chicago:20210405T183000
DTEND;TZID=America/Chicago:20210405T193000
DTSTAMP:20210107T172739Z
URL:https://northcanadianba.org/events/ministry-wives-2021-04-05/
SUMMARY:Ministry Wives
DESCRIPTION:
END:VEVENT
BEGIN:VEVENT
UID:28@northcanadianba.org
DTSTART;TZID=America/Chicago:20210406T103000
DTEND;TZID=America/Chicago:20210406T120000
DTSTAMP:20210107T190215Z
URL:https://northcanadianba.org/events/pastor-staff-fellowship-2021-04-06/
SUMMARY:Pastor / Staff Fellowship
DESCRIPTION:
LOCATION:NCBA Office\, 24482 A Street\, Schulter\, OK\, 74437\, United Stat
 es
X-APPLE-STRUCTURED-LOCATION;VALUE=URI;X-ADDRESS=24482 A Street\, Schulter\,
  OK\, 74437\, United States;X-APPLE-RADIUS=100;X-TITLE=NCBA Office:geo:0,0
END:VEVENT
BEGIN:VEVENT
UID:79@northcanadianba.org
DTSTART;TZID=America/Chicago:20210406T183000
DTEND;TZID=America/Chicago:20210406T200000
DTSTAMP:20210107T204001Z
URL:https://northcanadianba.org/events/vbs-clinic/
SUMMARY:VBS Clinic
DESCRIPTION:
LOCATION:First Baptist Church - Dewar\, 507 W.6th\, Dewar\, OK\, 74432\, Un
 ited States
X-APPLE-STRUCTURED-LOCATION;VALUE=URI;X-ADDRESS=507 W.6th\, Dewar\, OK\, 74
 432\, United States;X-APPLE-RADIUS=100;X-TITLE=First Baptist Church - Dewa
 r:geo:0,0
END:VEVENT
BEGIN:VEVENT
UID:29@northcanadianba.org
DTSTART;TZID=America/Chicago:20210413T103000
DTEND;TZID=America/Chicago:20210413T120000
DTSTAMP:20210107T190215Z
URL:https://northcanadianba.org/events/pastor-staff-fellowship-2021-04-13/
SUMMARY:Pastor / Staff Fellowship
DESCRIPTION:
LOCATION:NCBA Office\, 24482 A Street\, Schulter\, OK\, 74437\, United Stat
 es
X-APPLE-STRUCTURED-LOCATION;VALUE=URI;X-ADDRESS=24482 A Street\, Schulter\,
  OK\, 74437\, United States;X-APPLE-RADIUS=100;X-TITLE=NCBA Office:geo:0,0
END:VEVENT
BEGIN:VEVENT
UID:80@northcanadianba.org
DTSTART;TZID=America/Chicago;VALUE=DATE:20210416
DTEND;TZID=America/Chicago;VALUE=DATE:20210418
DTSTAMP:20210107T204042Z
URL:https://northcanadianba.org/events/womens-retreat/
SUMMARY:Women's Retreat
DESCRIPTION:
END:VEVENT
BEGIN:VEVENT
UID:30@northcanadianba.org
DTSTART;TZID=America/Chicago:20210420T103000
DTEND;TZID=America/Chicago:20210420T120000
DTSTAMP:20210107T190215Z
URL:https://northcanadianba.org/events/pastor-staff-fellowship-2021-04-20/
SUMMARY:Pastor / Staff Fellowship
DESCRIPTION:
LOCATION:NCBA Office\, 24482 A Street\, Schulter\, OK\, 74437\, United Stat
 es
X-APPLE-STRUCTURED-LOCATION;VALUE=URI;X-ADDRESS=24482 A Street\, Schulter\,
  OK\, 74437\, United States;X-APPLE-RADIUS=100;X-TITLE=NCBA Office:geo:0,0
END:VEVENT
BEGIN:VEVENT
UID:81@northcanadianba.org
DTSTART;TZID=America/Chicago:20210420T183000
DTEND;TZID=America/Chicago:20210420T200000
DTSTAMP:20210107T204139Z
URL:https://northcanadianba.org/events/ncba-executive-board-meeting/
SUMMARY:NCBA Executive Board Meeting
DESCRIPTION:
LOCATION:NCBA Office\, 24482 A Street\, Schulter\, OK\, 74437\, United Stat
 es
X-APPLE-STRUCTURED-LOCATION;VALUE=URI;X-ADDRESS=24482 A Street\, Schulter\,
  OK\, 74437\, United States;X-APPLE-RADIUS=100;X-TITLE=NCBA Office:geo:0,0
END:VEVENT
BEGIN:VEVENT
UID:82@northcanadianba.org
DTSTART;TZID=America/Chicago:20210426T183000
DTEND;TZID=America/Chicago:20210426T200000
DTSTAMP:20210107T204237Z
URL:https://northcanadianba.org/events/acc-sponsors-meeting/
SUMMARY:ACC Sponsors Meeting
DESCRIPTION:
LOCATION:Natura Baptist Church - Beggs\, 7995 N. 250 Rd.\, Beggs\, OK\, 744
 21\, United States
X-APPLE-STRUCTURED-LOCATION;VALUE=URI;X-ADDRESS=7995 N. 250 Rd.\, Beggs\, O
 K\, 74421\, United States;X-APPLE-RADIUS=100;X-TITLE=Natura Baptist Church
  - Beggs:geo:0,0
END:VEVENT
BEGIN:VEVENT
UID:31@northcanadianba.org
DTSTART;TZID=America/Chicago:20210427T090000
DTEND;TZID=America/Chicago:20210427T103000
DTSTAMP:20210107T192857Z
URL:https://northcanadianba.org/events/pastor-staff-fellowship-2021-04-27/
SUMMARY:Pastor / Staff Breakfast
DESCRIPTION:
LOCATION:NCBA Office\, 24482 A Street\, Schulter\, OK\, 74437\, United Stat
 es
X-APPLE-STRUCTURED-LOCATION;VALUE=URI;X-ADDRESS=24482 A Street\, Schulter\,
  OK\, 74437\, United States;X-APPLE-RADIUS=100;X-TITLE=NCBA Office:geo:0,0
END:VEVENT
BEGIN:VEVENT
UID:6@northcanadianba.org
DTSTART;TZID=America/Chicago:20210503T183000
DTEND;TZID=America/Chicago:20210503T193000
DTSTAMP:20210107T172739Z
URL:https://northcanadianba.org/events/ministry-wives-2021-05-03/
SUMMARY:Ministry Wives
DESCRIPTION:
END:VEVENT
BEGIN:VEVENT
UID:32@northcanadianba.org
DTSTART;TZID=America/Chicago:20210504T103000
DTEND;TZID=America/Chicago:20210504T120000
DTSTAMP:20210107T190215Z
URL:https://northcanadianba.org/events/pastor-staff-fellowship-2021-05-04/
SUMMARY:Pastor / Staff Fellowship
DESCRIPTION:
LOCATION:NCBA Office\, 24482 A Street\, Schulter\, OK\, 74437\, United Stat
 es
X-APPLE-STRUCTURED-LOCATION;VALUE=URI;X-ADDRESS=24482 A Street\, Schulter\,
  OK\, 74437\, United States;X-APPLE-RADIUS=100;X-TITLE=NCBA Office:geo:0,0
END:VEVENT
BEGIN:VEVENT
UID:83@northcanadianba.org
DTSTART;TZID=America/Chicago;VALUE=DATE:20210506
DTEND;TZID=America/Chicago;VALUE=DATE:20210507
DTSTAMP:20210107T204321Z
URL:https://northcanadianba.org/events/national-day-of-prayer/
SUMMARY:National Day of Prayer
DESCRIPTION:
END:VEVENT
BEGIN:VEVENT
UID:84@northcanadianba.org
DTSTART;TZID=America/Chicago:20210510T120000
DTEND;TZID=America/Chicago:20210510T133000
DTSTAMP:20210107T204450Z
URL:https://northcanadianba.org/events/senior-adult-bash/
SUMMARY:Senior Adult Bash
DESCRIPTION:
LOCATION:First Baptist Church - Okmulgee\, 311 W. 5th\, Okmulgee\, OK\, 744
 47\, United States
X-APPLE-STRUCTURED-LOCATION;VALUE=URI;X-ADDRESS=311 W. 5th\, Okmulgee\, OK\
 , 74447\, United States;X-APPLE-RADIUS=100;X-TITLE=First Baptist Church - 
 Okmulgee:geo:0,0
END:VEVENT
BEGIN:VEVENT
UID:33@northcanadianba.org
DTSTART;TZID=America/Chicago:20210511T103000
DTEND;TZID=America/Chicago:20210511T120000
DTSTAMP:20210107T190215Z
URL:https://northcanadianba.org/events/pastor-staff-fellowship-2021-05-11/
SUMMARY:Pastor / Staff Fellowship
DESCRIPTION:
LOCATION:NCBA Office\, 24482 A Street\, Schulter\, OK\, 74437\, United Stat
 es
X-APPLE-STRUCTURED-LOCATION;VALUE=URI;X-ADDRESS=24482 A Street\, Schulter\,
  OK\, 74437\, United States;X-APPLE-RADIUS=100;X-TITLE=NCBA Office:geo:0,0
END:VEVENT
BEGIN:VEVENT
UID:34@northcanadianba.org
DTSTART;TZID=America/Chicago:20210518T103000
DTEND;TZID=America/Chicago:20210518T120000
DTSTAMP:20210107T190215Z
URL:https://northcanadianba.org/events/pastor-staff-fellowship-2021-05-18/
SUMMARY:Pastor / Staff Fellowship
DESCRIPTION:
LOCATION:NCBA Office\, 24482 A Street\, Schulter\, OK\, 74437\, United Stat
 es
X-APPLE-STRUCTURED-LOCATION;VALUE=URI;X-ADDRESS=24482 A Street\, Schulter\,
  OK\, 74437\, United States;X-APPLE-RADIUS=100;X-TITLE=NCBA Office:geo:0,0
END:VEVENT
BEGIN:VEVENT
UID:35@northcanadianba.org
DTSTART;TZID=America/Chicago:20210525T090000
DTEND;TZID=America/Chicago:20210525T103000
DTSTAMP:20210107T193204Z
URL:https://northcanadianba.org/events/pastor-staff-fellowship-2021-05-25/
SUMMARY:Pastor / Staff Breakfast
DESCRIPTION:
LOCATION:NCBA Office\, 24482 A Street\, Schulter\, OK\, 74437\, United Stat
 es
X-APPLE-STRUCTURED-LOCATION;VALUE=URI;X-ADDRESS=24482 A Street\, Schulter\,
  OK\, 74437\, United States;X-APPLE-RADIUS=100;X-TITLE=NCBA Office:geo:0,0
END:VEVENT
BEGIN:VEVENT
UID:85@northcanadianba.org
DTSTART;TZID=America/Chicago;VALUE=DATE:20210531
DTEND;TZID=America/Chicago;VALUE=DATE:20210601
DTSTAMP:20210107T204600Z
URL:https://northcanadianba.org/events/memorial-day-office-will-be-closed/
SUMMARY:Memorial Day - Office will be closed
DESCRIPTION:
END:VEVENT
BEGIN:VEVENT
UID:36@northcanadianba.org
DTSTART;TZID=America/Chicago:20210601T103000
DTEND;TZID=America/Chicago:20210601T120000
DTSTAMP:20210107T190215Z
URL:https://northcanadianba.org/events/pastor-staff-fellowship-2021-06-01/
SUMMARY:Pastor / Staff Fellowship
DESCRIPTION:
LOCATION:NCBA Office\, 24482 A Street\, Schulter\, OK\, 74437\, United Stat
 es
X-APPLE-STRUCTURED-LOCATION;VALUE=URI;X-ADDRESS=24482 A Street\, Schulter\,
  OK\, 74437\, United States;X-APPLE-RADIUS=100;X-TITLE=NCBA Office:geo:0,0
END:VEVENT
BEGIN:VEVENT
UID:86@northcanadianba.org
DTSTART;TZID=America/Chicago;VALUE=DATE:20210602
DTEND;TZID=America/Chicago;VALUE=DATE:20210606
DTSTAMP:20210107T204733Z
URL:https://northcanadianba.org/events/association-childrens-camp/
SUMMARY:Association Children's Camp
DESCRIPTION:
END:VEVENT
BEGIN:VEVENT
UID:87@northcanadianba.org
DTSTART;TZID=America/Chicago;VALUE=DATE:20210607
DTEND;TZID=America/Chicago;VALUE=DATE:20210612
DTSTAMP:20210107T204829Z
URL:https://northcanadianba.org/events/falls-creek-week-1/
SUMMARY:Falls Creek - Week 1
DESCRIPTION:
END:VEVENT
BEGIN:VEVENT
UID:7@northcanadianba.org
DTSTART;TZID=America/Chicago:20210607T183000
DTEND;TZID=America/Chicago:20210607T193000
DTSTAMP:20210107T172739Z
URL:https://northcanadianba.org/events/ministry-wives-2021-06-07/
SUMMARY:Ministry Wives
DESCRIPTION:
END:VEVENT
BEGIN:VEVENT
UID:37@northcanadianba.org
DTSTART;TZID=America/Chicago:20210608T103000
DTEND;TZID=America/Chicago:20210608T120000
DTSTAMP:20210107T190215Z
URL:https://northcanadianba.org/events/pastor-staff-fellowship-2021-06-08/
SUMMARY:Pastor / Staff Fellowship
DESCRIPTION:
LOCATION:NCBA Office\, 24482 A Street\, Schulter\, OK\, 74437\, United Stat
 es
X-APPLE-STRUCTURED-LOCATION;VALUE=URI;X-ADDRESS=24482 A Street\, Schulter\,
  OK\, 74437\, United States;X-APPLE-RADIUS=100;X-TITLE=NCBA Office:geo:0,0
END:VEVENT
BEGIN:VTIMEZONE
TZID:America/Chicago
X-LIC-LOCATION:America/Chicago
BEGIN:STANDARD
DTSTART:20201101T010000
TZOFFSETFROM:-0500
TZOFFSETTO:-0600
TZNAME:CST
END:STANDARD
BEGIN:DAYLIGHT
DTSTART:20210314T030000
TZOFFSETFROM:-0600
TZOFFSETTO:-0500
TZNAME:CDT
END:DAYLIGHT
END:VTIMEZONE
END:VCALENDAR